BEGIN:VCALENDAR
PRODID:http://wibix.de/infusions/pro_download_panel/download.php?did=27
VERSION:2.0
METHOD:PUBLISH
BEGIN:VEVENT
DTSTART:20200319T000000Z
UID:442@http://www.noten.zoo-pony.ro/
DTSTAMP:20200513T152812Z
DESCRIPTION:Des Spaßes halber für den Jock
SUMMARY:Gaudi
CLASS:PUBLIC
END:VEVENT
END:VCALENDAR
